BEGIN:VCALENDAR
VERSION:2.0
PRODID:-//wp-events-plugin.com//7.2.3.1//EN
BEGIN:VEVENT
UID:99763@dancegumbo.com
DTSTART;TZID=America/New_York:20260417T193000
DTEND;TZID=America/New_York:20260417T213000
DTSTAMP:20260414T181050Z
URL:https://www.dancegumbo.com/events/rhythm-and-shine-ballroom-social-3/
SUMMARY:Rhythm and Shine Ballroom Social
DESCRIPTION:Ali and Juan of Rhythm and Shine with a Ballroom Social. Lesson
  7:30-8 on Int West Coast Swing. Dancing 8:00-9:30. $15 Facebook .
LOCATION:Mathews House\, 317 W Chatham St.\, Cary\, NC\, 27511\, United Sta
 tes
X-APPLE-STRUCTURED-LOCATION;VALUE=URI;X-ADDRESS=317 W Chatham St.\, Cary\, 
 NC\, 27511\, United States;X-APPLE-RADIUS=100;X-TITLE=Mathews House:geo:0,
 0
END:VEVENT
BEGIN:VTIMEZONE
TZID:America/New_York
X-LIC-LOCATION:America/New_York
BEGIN:DAYLIGHT
DTSTART:20260308T030000
TZOFFSETFROM:-0500
TZOFFSETTO:-0400
TZNAME:EDT
END:DAYLIGHT
END:VTIMEZONE
END:VCALENDAR